Package: APL Version: 1.10.2 Command: /Library/Frameworks/R.framework/Resources/bin/R CMD INSTALL APL StartedAt: 2025-01-27 16:59:43 -0500 (Mon, 27 Jan 2025) EndedAt: 2025-01-27 17:00:29 -0500 (Mon, 27 Jan 2025) EllapsedTime: 46.2 seconds RetCode: 0 Status: OK