Package: APL Version: 1.10.2 Command: rm -rf APL.buildbin-libdir && mkdir APL.buildbin-libdir && /Users/biocbuild/BBS/utils/build-universal.sh APL_1.10.2.tar.gz /Library/Frameworks/R.framework/Resources/bin/R APL.buildbin-libdir StartedAt: 2025-01-29 13:38:42 -0500 (Wed, 29 Jan 2025) EndedAt: 2025-01-29 13:39:34 -0500 (Wed, 29 Jan 2025) EllapsedTime: 52.1 seconds RetCode: 0 Status: OK PackageFile: APL_1.10.2.tgz PackageFileSize: 2.907 MiB