Package: APAlyzer Version: 1.20.0 Command: /home/biocbuild/R/R/bin/R CMD build --keep-empty-dirs --no-resave-data APAlyzer StartedAt: 2025-01-27 22:18:30 -0000 (Mon, 27 Jan 2025) EndedAt: 2025-01-27 22:20:33 -0000 (Mon, 27 Jan 2025) EllapsedTime: 123.0 seconds RetCode: 0 Status: OK PackageFile: APAlyzer_1.20.0.tar.gz PackageFileSize: 3.618 MiB