Package: APAlyzer Version: 1.20.0 Command: /home/biocbuild/bbs-3.20-bioc/R/bin/R CMD check --install=check:APAlyzer.install-out.txt --library=/home/biocbuild/bbs-3.20-bioc/R/site-library --timings APAlyzer_1.20.0.tar.gz StartedAt: 2025-03-31 19:52:36 -0400 (Mon, 31 Mar 2025) EndedAt: 2025-03-31 20:00:38 -0400 (Mon, 31 Mar 2025) EllapsedTime: 481.6 seconds RetCode: 0 Status: WARNINGS CheckDir: APAlyzer.Rcheck Warnings: 1