Package: APAlyzer Version: 1.20.0 Command: /home/biocbuild/bbs-3.20-bioc/R/bin/R CMD build --keep-empty-dirs --no-resave-data --md5 APAlyzer StartedAt: 2025-03-31 16:11:08 -0400 (Mon, 31 Mar 2025) EndedAt: 2025-03-31 16:12:57 -0400 (Mon, 31 Mar 2025) EllapsedTime: 109.1 seconds RetCode: 0 Status: OK PackageFile: APAlyzer_1.20.0.tar.gz PackageFileSize: 3.919 MiB