Package: APAlyzer Version: 1.20.0 Command: /Library/Frameworks/R.framework/Resources/bin/R CMD INSTALL APAlyzer StartedAt: 2025-03-31 16:22:49 -0400 (Mon, 31 Mar 2025) EndedAt: 2025-03-31 16:24:14 -0400 (Mon, 31 Mar 2025) EllapsedTime: 85.0 seconds RetCode: 0 Status: OK