Package: APAlyzer Version: 1.20.0 Command: /Library/Frameworks/R.framework/Resources/bin/R CMD build --keep-empty-dirs --no-resave-data APAlyzer StartedAt: 2025-01-27 17:03:46 -0500 (Mon, 27 Jan 2025) EndedAt: 2025-01-27 17:07:31 -0500 (Mon, 27 Jan 2025) EllapsedTime: 224.8 seconds RetCode: 0 Status: OK PackageFile: APAlyzer_1.20.0.tar.gz PackageFileSize: 3.959 MiB