Package: APAlyzer Version: 1.20.0 Command: /Library/Frameworks/R.framework/Resources/bin/R CMD check --install=check:APAlyzer.install-out.txt --library=/Library/Frameworks/R.framework/Resources/library --no-vignettes --timings APAlyzer_1.20.0.tar.gz StartedAt: 2025-04-01 10:52:49 -0400 (Tue, 01 Apr 2025) EndedAt: 2025-04-01 11:01:05 -0400 (Tue, 01 Apr 2025) EllapsedTime: 496.6 seconds RetCode: 0 Status: WARNINGS CheckDir: APAlyzer.Rcheck Warnings: 1