Package: APAlyzer Version: 1.20.0 Command: /Library/Frameworks/R.framework/Resources/bin/R CMD build --keep-empty-dirs --no-resave-data APAlyzer StartedAt: 2025-03-31 18:43:31 -0400 (Mon, 31 Mar 2025) EndedAt: 2025-03-31 18:45:35 -0400 (Mon, 31 Mar 2025) EllapsedTime: 124.2 seconds RetCode: 0 Status: OK PackageFile: APAlyzer_1.20.0.tar.gz PackageFileSize: 3.962 MiB