Package: APAlyzer Version: 1.20.0 Command: rm -rf APAlyzer.buildbin-libdir && mkdir APAlyzer.buildbin-libdir && /Users/biocbuild/BBS/utils/build-universal.sh APAlyzer_1.20.0.tar.gz /Library/Frameworks/R.framework/Resources/bin/R APAlyzer.buildbin-libdir StartedAt: 2025-04-02 13:18:35 -0400 (Wed, 02 Apr 2025) EndedAt: 2025-04-02 13:19:32 -0400 (Wed, 02 Apr 2025) EllapsedTime: 57.1 seconds RetCode: 0 Status: OK PackageFile: APAlyzer_1.20.0.tgz PackageFileSize: 4.045 MiB