Package: ANF Version: 1.28.0 Command: /home/biocbuild/bbs-3.20-bioc/R/bin/R CMD INSTALL ANF StartedAt: 2025-03-31 15:49:43 -0400 (Mon, 31 Mar 2025) EndedAt: 2025-03-31 15:49:48 -0400 (Mon, 31 Mar 2025) EllapsedTime: 5.7 seconds RetCode: 0 Status: OK