Package: ANF Version: 1.28.0 Command: /home/biocbuild/bbs-3.20-bioc/R/bin/R CMD build --keep-empty-dirs --no-resave-data --md5 ANF StartedAt: 2025-03-31 16:09:54 -0400 (Mon, 31 Mar 2025) EndedAt: 2025-03-31 16:10:31 -0400 (Mon, 31 Mar 2025) EllapsedTime: 37.0 seconds RetCode: 0 Status: OK PackageFile: ANF_1.28.0.tar.gz PackageFileSize: 684.5 KiB