Package: ANF Version: 1.28.0 Command: /Library/Frameworks/R.framework/Resources/bin/R CMD build --keep-empty-dirs --no-resave-data ANF StartedAt: 2025-03-31 16:51:52 -0400 (Mon, 31 Mar 2025) EndedAt: 2025-03-31 16:53:21 -0400 (Mon, 31 Mar 2025) EllapsedTime: 88.4 seconds RetCode: 0 Status: OK PackageFile: ANF_1.28.0.tar.gz PackageFileSize: 683 KiB