Package: ANCOMBC Version: 2.8.1 Command: /home/biocbuild/R/R/bin/R CMD check --install=check:ANCOMBC.install-out.txt --library=/home/biocbuild/R/R/site-library --no-vignettes --timings ANCOMBC_2.8.1.tar.gz StartedAt: 2025-02-04 04:18:10 -0000 (Tue, 04 Feb 2025) EndedAt: 2025-02-04 04:26:00 -0000 (Tue, 04 Feb 2025) EllapsedTime: 469.1 seconds RetCode: 0 Status: OK CheckDir: ANCOMBC.Rcheck Warnings: 0