Package: AMOUNTAIN Version: 1.32.0 Command: chmod a+r AMOUNTAIN -R && F:\biocbuild\bbs-3.20-bioc\R\bin\R.exe CMD build --keep-empty-dirs --no-resave-data AMOUNTAIN StartedAt: 2025-03-31 17:18:42 -0400 (Mon, 31 Mar 2025) EndedAt: 2025-03-31 17:19:15 -0400 (Mon, 31 Mar 2025) EllapsedTime: 33.0 seconds RetCode: 0 Status: OK PackageFile: AMOUNTAIN_1.32.0.tar.gz PackageFileSize: 1.149 MiB