Package: AMOUNTAIN Version: 1.32.0 Command: /Library/Frameworks/R.framework/Resources/bin/R CMD check --install=check:AMOUNTAIN.install-out.txt --library=/Library/Frameworks/R.framework/Resources/library --no-vignettes --timings AMOUNTAIN_1.32.0.tar.gz StartedAt: 2025-01-31 00:06:24 -0500 (Fri, 31 Jan 2025) EndedAt: 2025-01-31 00:07:05 -0500 (Fri, 31 Jan 2025) EllapsedTime: 40.9 seconds RetCode: 0 Status: OK CheckDir: AMOUNTAIN.Rcheck Warnings: 0