Package: AMARETTO Version: 1.22.0 Command: /Library/Frameworks/R.framework/Resources/bin/R CMD check --install=check:AMARETTO.install-out.txt --library=/Library/Frameworks/R.framework/Resources/library --no-vignettes --timings AMARETTO_1.22.0.tar.gz StartedAt: 2025-01-27 23:51:38 -0500 (Mon, 27 Jan 2025) EndedAt: 2025-01-28 00:01:37 -0500 (Tue, 28 Jan 2025) EllapsedTime: 599.7 seconds RetCode: 0 Status: WARNINGS CheckDir: AMARETTO.Rcheck Warnings: 1