Package: AMARETTO Version: 1.22.0 Command: /Library/Frameworks/R.framework/Resources/bin/R CMD INSTALL AMARETTO StartedAt: 2024-11-19 15:32:35 -0500 (Tue, 19 Nov 2024) EndedAt: 2024-11-19 15:33:24 -0500 (Tue, 19 Nov 2024) EllapsedTime: 48.8 seconds RetCode: 0 Status: OK