Package: ALDEx2 Version: 1.38.0 Command: /home/biocbuild/R/R/bin/R CMD INSTALL ALDEx2 StartedAt: 2025-02-10 20:56:58 -0000 (Mon, 10 Feb 2025) EndedAt: 2025-02-10 20:57:28 -0000 (Mon, 10 Feb 2025) EllapsedTime: 30.5 seconds RetCode: 0 Status: OK