Package: ALDEx2 Version: 1.38.0 Command: /home/biocbuild/R/R/bin/R CMD build --keep-empty-dirs --no-resave-data ALDEx2 StartedAt: 2025-02-10 21:18:26 -0000 (Mon, 10 Feb 2025) EndedAt: 2025-02-10 21:20:12 -0000 (Mon, 10 Feb 2025) EllapsedTime: 106.1 seconds RetCode: 1 Status: ERROR PackageFile: None PackageFileSize: NA