Package: ALDEx2 Version: 1.38.0 Command: /Library/Frameworks/R.framework/Resources/bin/R CMD INSTALL ALDEx2 StartedAt: 2025-03-31 17:31:01 -0400 (Mon, 31 Mar 2025) EndedAt: 2025-03-31 17:31:27 -0400 (Mon, 31 Mar 2025) EllapsedTime: 26.7 seconds RetCode: 0 Status: OK