Package: AIMS Version: 1.38.0 Command: /home/biocbuild/R/R/bin/R CMD INSTALL AIMS StartedAt: 2025-03-31 20:11:53 -0000 (Mon, 31 Mar 2025) EndedAt: 2025-03-31 20:12:17 -0000 (Mon, 31 Mar 2025) EllapsedTime: 23.9 seconds RetCode: 0 Status: OK