Package: AIMS Version: 1.37.0 Command: rm -rf AIMS.buildbin-libdir && mkdir AIMS.buildbin-libdir && C:\Users\biocbuild\bbs-3.20-bioc\R\bin\R.exe CMD INSTALL --build --library=AIMS.buildbin-libdir AIMS_1.37.0.tar.gz StartedAt: 2024-07-16 05:52:28 -0400 (Tue, 16 Jul 2024) EndedAt: 2024-07-16 05:52:46 -0400 (Tue, 16 Jul 2024) EllapsedTime: 17.7 seconds RetCode: 0 Status: OK PackageFile: AIMS_1.37.0.zip PackageFileSize: 505.5 KiB