Package: AIMS Version: 1.38.0 Command: /Library/Frameworks/R.framework/Resources/bin/R CMD INSTALL AIMS StartedAt: 2025-01-27 15:09:43 -0500 (Mon, 27 Jan 2025) EndedAt: 2025-01-27 15:10:05 -0500 (Mon, 27 Jan 2025) EllapsedTime: 22.0 seconds RetCode: 0 Status: OK