Package: AIMS Version: 1.38.0 Command: /Library/Frameworks/R.framework/Resources/bin/R CMD build --keep-empty-dirs --no-resave-data AIMS StartedAt: 2025-01-27 16:58:13 -0500 (Mon, 27 Jan 2025) EndedAt: 2025-01-27 16:58:50 -0500 (Mon, 27 Jan 2025) EllapsedTime: 36.5 seconds RetCode: 0 Status: OK PackageFile: AIMS_1.38.0.tar.gz PackageFileSize: 484.3 KiB