Package: AHMassBank Version: 1.6.0 Command: /Library/Frameworks/R.framework/Resources/bin/R CMD build --keep-empty-dirs --no-resave-data AHMassBank StartedAt: 2025-01-27 16:58:01 -0500 (Mon, 27 Jan 2025) EndedAt: 2025-01-27 17:00:04 -0500 (Mon, 27 Jan 2025) EllapsedTime: 122.5 seconds RetCode: 0 Status: OK PackageFile: AHMassBank_1.6.0.tar.gz PackageFileSize: 293.2 KiB