Package: AHMassBank Version: 1.6.1 Command: /Library/Frameworks/R.framework/Resources/bin/R CMD build --keep-empty-dirs --no-resave-data AHMassBank StartedAt: 2025-03-31 18:29:41 -0400 (Mon, 31 Mar 2025) EndedAt: 2025-03-31 18:30:47 -0400 (Mon, 31 Mar 2025) EllapsedTime: 66.5 seconds RetCode: 0 Status: OK PackageFile: AHMassBank_1.6.1.tar.gz PackageFileSize: 293.4 KiB