Package: AGDEX Version: 1.54.0 Command: /home/biocbuild/R/R/bin/R CMD INSTALL AGDEX StartedAt: 2025-01-27 21:27:47 -0000 (Mon, 27 Jan 2025) EndedAt: 2025-01-27 21:28:06 -0000 (Mon, 27 Jan 2025) EllapsedTime: 18.9 seconds RetCode: 0 Status: OK