Package: AGDEX Version: 1.54.0 Command: F:\biocbuild\bbs-3.20-bioc\R\bin\R.exe CMD check --no-multiarch --install=check:AGDEX.install-out.txt --library=F:\biocbuild\bbs-3.20-bioc\R\library --no-vignettes --timings AGDEX_1.54.0.tar.gz StartedAt: 2025-01-27 22:49:46 -0500 (Mon, 27 Jan 2025) EndedAt: 2025-01-27 22:51:08 -0500 (Mon, 27 Jan 2025) EllapsedTime: 82.2 seconds RetCode: 0 Status: OK CheckDir: AGDEX.Rcheck Warnings: 0