Package: AGDEX Version: 1.54.0 Command: chmod a+r AGDEX -R && F:\biocbuild\bbs-3.20-bioc\R\bin\R.exe CMD build --keep-empty-dirs --no-resave-data AGDEX StartedAt: 2025-01-27 17:16:26 -0500 (Mon, 27 Jan 2025) EndedAt: 2025-01-27 17:17:06 -0500 (Mon, 27 Jan 2025) EllapsedTime: 40.0 seconds RetCode: 0 Status: OK PackageFile: AGDEX_1.54.0.tar.gz PackageFileSize: 487.5 KiB