Package: ADaCGH2 Version: 2.46.0 Command: F:\biocbuild\bbs-3.20-bioc\R\bin\R.exe CMD INSTALL ADaCGH2 StartedAt: 2025-03-31 16:43:43 -0400 (Mon, 31 Mar 2025) EndedAt: 2025-03-31 16:44:27 -0400 (Mon, 31 Mar 2025) EllapsedTime: 44.0 seconds RetCode: 0 Status: OK