Package: ADaCGH2 Version: 2.46.0 Command: chmod a+r ADaCGH2 -R && F:\biocbuild\bbs-3.20-bioc\R\bin\R.exe CMD build --keep-empty-dirs --no-resave-data ADaCGH2 StartedAt: 2025-01-27 17:15:15 -0500 (Mon, 27 Jan 2025) EndedAt: 2025-01-27 17:16:53 -0500 (Mon, 27 Jan 2025) EllapsedTime: 98.8 seconds RetCode: 0 Status: OK PackageFile: ADaCGH2_2.46.0.tar.gz PackageFileSize: 939.5 KiB