Package: ADaCGH2 Version: 2.46.0 Command: /home/biocbuild/bbs-3.20-bioc/R/bin/R CMD INSTALL ADaCGH2 StartedAt: 2025-03-31 15:48:00 -0400 (Mon, 31 Mar 2025) EndedAt: 2025-03-31 15:48:21 -0400 (Mon, 31 Mar 2025) EllapsedTime: 21.7 seconds RetCode: 0 Status: OK