Package: ADaCGH2 Version: 2.46.0 Command: /Library/Frameworks/R.framework/Resources/bin/R CMD INSTALL ADaCGH2 StartedAt: 2025-01-27 17:30:23 -0500 (Mon, 27 Jan 2025) EndedAt: 2025-01-27 17:30:50 -0500 (Mon, 27 Jan 2025) EllapsedTime: 27.5 seconds RetCode: 0 Status: OK