Package: ADaCGH2 Version: 2.46.0 Command: /Library/Frameworks/R.framework/Resources/bin/R CMD check --install=check:ADaCGH2.install-out.txt --library=/Library/Frameworks/R.framework/Resources/library --no-vignettes --timings ADaCGH2_2.46.0.tar.gz StartedAt: 2025-01-28 10:29:20 -0500 (Tue, 28 Jan 2025) EndedAt: 2025-01-28 10:33:42 -0500 (Tue, 28 Jan 2025) EllapsedTime: 261.7 seconds RetCode: 0 Status: OK CheckDir: ADaCGH2.Rcheck Warnings: 0