Package: ADAPT Version: 1.0.0 Command: /home/biocbuild/R/R/bin/R CMD INSTALL ADAPT StartedAt: 2025-01-30 20:55:13 -0000 (Thu, 30 Jan 2025) EndedAt: 2025-01-30 20:56:17 -0000 (Thu, 30 Jan 2025) EllapsedTime: 63.3 seconds RetCode: 0 Status: OK