Package: ADAPT Version: 1.0.0 Command: /home/biocbuild/bbs-3.20-bioc/R/bin/R CMD check --install=check:ADAPT.install-out.txt --library=/home/biocbuild/bbs-3.20-bioc/R/site-library --timings ADAPT_1.0.0.tar.gz StartedAt: 2025-02-03 19:56:30 -0500 (Mon, 03 Feb 2025) EndedAt: 2025-02-03 19:58:48 -0500 (Mon, 03 Feb 2025) EllapsedTime: 138.2 seconds RetCode: 0 Status: OK CheckDir: ADAPT.Rcheck Warnings: 0