Package: ADAPT Version: 1.0.0 Command: /home/biocbuild/bbs-3.20-bioc/R/bin/R CMD build --keep-empty-dirs --no-resave-data --md5 ADAPT StartedAt: 2025-02-03 16:16:49 -0500 (Mon, 03 Feb 2025) EndedAt: 2025-02-03 16:17:59 -0500 (Mon, 03 Feb 2025) EllapsedTime: 70.2 seconds RetCode: 0 Status: OK PackageFile: ADAPT_1.0.0.tar.gz PackageFileSize: 386.8 KiB