Package: ADAPT Version: 1.0.0 Command: /Library/Frameworks/R.framework/Resources/bin/R CMD INSTALL ADAPT StartedAt: 2025-01-30 16:24:35 -0500 (Thu, 30 Jan 2025) EndedAt: 2025-01-30 16:25:24 -0500 (Thu, 30 Jan 2025) EllapsedTime: 49.0 seconds RetCode: 1 Status: ERROR