Package: ADAM Version: 1.22.0 Command: /home/biocbuild/bbs-3.20-bioc/R/bin/R CMD check --install=check:ADAM.install-out.txt --library=/home/biocbuild/bbs-3.20-bioc/R/site-library --timings ADAM_1.22.0.tar.gz StartedAt: 2025-03-31 19:44:31 -0400 (Mon, 31 Mar 2025) EndedAt: 2025-03-31 19:47:42 -0400 (Mon, 31 Mar 2025) EllapsedTime: 190.4 seconds RetCode: 0 Status: OK CheckDir: ADAM.Rcheck Warnings: 0