Package: ADAM Version: 1.22.0 Command: /home/biocbuild/bbs-3.20-bioc/R/bin/R CMD build --keep-empty-dirs --no-resave-data --md5 ADAM StartedAt: 2025-03-31 16:07:38 -0400 (Mon, 31 Mar 2025) EndedAt: 2025-03-31 16:08:21 -0400 (Mon, 31 Mar 2025) EllapsedTime: 43.1 seconds RetCode: 0 Status: OK PackageFile: ADAM_1.22.0.tar.gz PackageFileSize: 321.9 KiB