Package: ADAM Version: 1.22.0 Command: /Library/Frameworks/R.framework/Resources/bin/R CMD check --install=check:ADAM.install-out.txt --library=/Library/Frameworks/R.framework/Resources/library --no-vignettes --timings ADAM_1.22.0.tar.gz StartedAt: 2025-01-28 10:29:25 -0500 (Tue, 28 Jan 2025) EndedAt: 2025-01-28 10:33:00 -0500 (Tue, 28 Jan 2025) EllapsedTime: 214.6 seconds RetCode: 0 Status: OK CheckDir: ADAM.Rcheck Warnings: 0