Package: ADAM Version: 1.22.0 Command: /Library/Frameworks/R.framework/Resources/bin/R CMD build --keep-empty-dirs --no-resave-data ADAM StartedAt: 2025-01-27 18:31:44 -0500 (Mon, 27 Jan 2025) EndedAt: 2025-01-27 18:32:37 -0500 (Mon, 27 Jan 2025) EllapsedTime: 53.4 seconds RetCode: 0 Status: OK PackageFile: ADAM_1.22.0.tar.gz PackageFileSize: 321 KiB