Package: ACME Version: 2.62.0 Command: F:\biocbuild\bbs-3.20-bioc\R\bin\R.exe CMD check --no-multiarch --install=check:ACME.install-out.txt --library=F:\biocbuild\bbs-3.20-bioc\R\library --no-vignettes --timings ACME_2.62.0.tar.gz StartedAt: 2025-01-27 22:47:50 -0500 (Mon, 27 Jan 2025) EndedAt: 2025-01-27 22:49:12 -0500 (Mon, 27 Jan 2025) EllapsedTime: 81.9 seconds RetCode: 0 Status: WARNINGS CheckDir: ACME.Rcheck Warnings: 1