Package: ACME Version: 2.62.0 Command: chmod a+r ACME -R && F:\biocbuild\bbs-3.20-bioc\R\bin\R.exe CMD build --keep-empty-dirs --no-resave-data ACME StartedAt: 2025-01-27 17:15:15 -0500 (Mon, 27 Jan 2025) EndedAt: 2025-01-27 17:16:07 -0500 (Mon, 27 Jan 2025) EllapsedTime: 52.1 seconds RetCode: 0 Status: OK PackageFile: ACME_2.62.0.tar.gz PackageFileSize: 9.796 MiB