Package: ACME Version: 2.62.0 Command: /home/biocbuild/bbs-3.20-bioc/R/bin/R CMD INSTALL ACME StartedAt: 2025-01-27 15:56:45 -0500 (Mon, 27 Jan 2025) EndedAt: 2025-01-27 15:56:49 -0500 (Mon, 27 Jan 2025) EllapsedTime: 4.4 seconds RetCode: 0 Status: OK