Package: ACME Version: 2.62.0 Command: /Library/Frameworks/R.framework/Resources/bin/R CMD build --keep-empty-dirs --no-resave-data ACME StartedAt: 2025-01-27 16:57:01 -0500 (Mon, 27 Jan 2025) EndedAt: 2025-01-27 16:57:58 -0500 (Mon, 27 Jan 2025) EllapsedTime: 56.6 seconds RetCode: 0 Status: OK PackageFile: ACME_2.62.0.tar.gz PackageFileSize: 9.91 MiB