Package: ACME Version: 2.62.0 Command: /home/biocbuild/R/R/bin/R CMD build --keep-empty-dirs --no-resave-data ACME StartedAt: 2024-11-19 22:40:54 -0000 (Tue, 19 Nov 2024) EndedAt: 2024-11-19 22:40:56 -0000 (Tue, 19 Nov 2024) EllapsedTime: 2.0 seconds RetCode: 1 Status: ERROR PackageFile: None PackageFileSize: NA