Package: ACE Version: 1.24.0 Command: /home/biocbuild/R/R/bin/R CMD INSTALL ACE StartedAt: 2025-03-31 20:38:35 -0000 (Mon, 31 Mar 2025) EndedAt: 2025-03-31 20:38:58 -0000 (Mon, 31 Mar 2025) EllapsedTime: 23.0 seconds RetCode: 0 Status: OK