Package: ABarray Version: 1.74.0 Command: /home/biocbuild/R/R/bin/R CMD INSTALL ABarray StartedAt: 2025-02-03 21:14:57 -0000 (Mon, 03 Feb 2025) EndedAt: 2025-02-03 21:15:08 -0000 (Mon, 03 Feb 2025) EllapsedTime: 11.1 seconds RetCode: 0 Status: OK